BEGIN:VCALENDAR
VERSION:2.0
PRODID:-//One Gorge - ECPv6.15.20//NONSGML v1.0//EN
CALSCALE:GREGORIAN
METHOD:PUBLISH
X-WR-CALNAME:One Gorge
X-ORIGINAL-URL:https://onegorge.org
X-WR-CALDESC:Events for One Gorge
REFRESH-INTERVAL;VALUE=DURATION:PT1H
X-Robots-Tag:noindex
X-PUBLISHED-TTL:PT1H
BEGIN:VTIMEZONE
TZID:UTC
BEGIN:STANDARD
TZOFFSETFROM:+0000
TZOFFSETTO:+0000
TZNAME:UTC
DTSTART:20220101T000000
END:STANDARD
END:VTIMEZONE
BEGIN:VEVENT
DTSTART;TZID=UTC:20230208T173000
DTEND;TZID=UTC:20230208T193000
DTSTAMP:20260422T164803
CREATED:20230111T185155Z
LAST-MODIFIED:20230111T185155Z
UID:10000324-1675877400-1675884600@onegorge.org
SUMMARY:Gorge-ous Night in Olympia
DESCRIPTION:To register: https://mtadamschamberwa.chambermaster.com/eventregistration/register/2832
URL:https://onegorge.org/event/gorge-ous-night-in-olympia/
LOCATION:Capitol Rotunda\, 416 Sid Snyder Ave.\, Olympia\, WA\, 98504 \, United States
GEO:47.0357219;-122.9048304
X-APPLE-STRUCTURED-LOCATION;VALUE=URI;X-ADDRESS=Capitol Rotunda 416 Sid Snyder Ave. Olympia WA 98504  United States;X-APPLE-RADIUS=500;X-TITLE=416 Sid Snyder Ave.:geo:-122.9048304,47.0357219
END:VEVENT
END:VCALENDAR