BEGIN:VCALENDAR
VERSION:2.0
PRODID:-//One Gorge - ECPv6.15.20//NONSGML v1.0//EN
CALSCALE:GREGORIAN
METHOD:PUBLISH
X-ORIGINAL-URL:https://onegorge.org
X-WR-CALDESC:Events for One Gorge
REFRESH-INTERVAL;VALUE=DURATION:PT1H
X-Robots-Tag:noindex
X-PUBLISHED-TTL:PT1H
BEGIN:VTIMEZONE
TZID:UTC
BEGIN:STANDARD
TZOFFSETFROM:+0000
TZOFFSETTO:+0000
TZNAME:UTC
DTSTART:20220101T000000
END:STANDARD
END:VTIMEZONE
BEGIN:VEVENT
DTSTART;TZID=UTC:20230215T173000
DTEND;TZID=UTC:20230215T193000
DTSTAMP:20260422T161033
CREATED:20230111T185705Z
LAST-MODIFIED:20230111T185705Z
UID:10000325-1676482200-1676489400@onegorge.org
SUMMARY:Gorge-ous Night in Salem
DESCRIPTION:To register: https://mtadamschamberwa.chambermaster.com/eventregistration/register/2849
URL:https://onegorge.org/event/gorge-ous-night-in-salem/
LOCATION:Willamette Heritage Center – The Spinning Room\, 1313 Mill Street SE\, Salem\, OR\, 97301\, United States
END:VEVENT
END:VCALENDAR