BEGIN:VCALENDAR
VERSION:2.0
PRODID:-//One Gorge - ECPv6.15.20//NONSGML v1.0//EN
CALSCALE:GREGORIAN
METHOD:PUBLISH
X-WR-CALNAME:One Gorge
X-ORIGINAL-URL:https://onegorge.org
X-WR-CALDESC:Events for One Gorge
REFRESH-INTERVAL;VALUE=DURATION:PT1H
X-Robots-Tag:noindex
X-PUBLISHED-TTL:PT1H
BEGIN:VTIMEZONE
TZID:UTC
BEGIN:STANDARD
TZOFFSETFROM:+0000
TZOFFSETTO:+0000
TZNAME:UTC
DTSTART:20150101T000000
END:STANDARD
END:VTIMEZONE
BEGIN:VTIMEZONE
TZID:UTC
BEGIN:STANDARD
TZOFFSETFROM:+0000
TZOFFSETTO:+0000
TZNAME:UTC
DTSTART:20140101T000000
END:STANDARD
END:VTIMEZONE
BEGIN:VEVENT
DTSTART;TZID=UTC:20231220T150000
DTEND;TZID=UTC:20231220T170000
DTSTAMP:20260423T184835
CREATED:20231002T201507Z
LAST-MODIFIED:20231002T204026Z
UID:10000165-1703084400-1703091600@onegorge.org
SUMMARY:One Gorge Advocacy Network- Virtual Meeting
DESCRIPTION:
URL:https://onegorge.org/event/one-gorge-advocacy-network-meets-virtual-meeting/
LOCATION:Virtual Meeting\, OR
CATEGORIES:One Gorge
GEO:40.2968979;-111.6946475
END:VEVENT
BEGIN:VEVENT
DTSTART;TZID=UTC:20231016T140000
DTEND;TZID=UTC:20231016T160000
DTSTAMP:20260423T184836
CREATED:20231002T201339Z
LAST-MODIFIED:20231002T203346Z
UID:10000328-1697464800-1697472000@onegorge.org
SUMMARY:One Gorge Leadership Team Meeting
DESCRIPTION:Members if you’d like to participate contact Liz at info@gorge.org
URL:https://onegorge.org/event/one-gorge-leadership-team-meeting-team-meeting/
LOCATION:Virtual Meeting\, OR
CATEGORIES:One Gorge
GEO:40.2968979;-111.6946475
END:VEVENT
BEGIN:VEVENT
DTSTART;TZID=UTC:20160209T180000
DTEND;TZID=UTC:20160209T200000
DTSTAMP:20260423T184836
CREATED:20160205T193356Z
LAST-MODIFIED:20160205T193356Z
UID:10000321-1455040800-1455048000@onegorge.org
SUMMARY:Gorge(ous) Night in Olympia
DESCRIPTION:Join us for the first ever Gorge(ous) Night in Olympia Tuesday\, February 9\, 2016.  \nHOSTED BY REPRESENTATIVE GINA MCCABE\, REPRESENTATIVE NORM JOHNSON & SENATOR CURTIS KING\nTUESDAY\, FEBRUARY 9\, 2016 FROM 6-8:00PM  \nIN THE CAPITOL BUILDING ROTUNDA*\n416 Sid Snyder Ave.\, Olympia\, WA 98504  \n*If the Legislature is in session at the event start time\, it will be moved to the Columbia Room.\nJoin south central Washington legislators for an evening of  \nFOOD\, DRINK and FANTASTIC GIVEAWAYS from the Columbia River Gorge.Feast on our regional delicacies\, wine\, and beer while exploring the Gorge’s unmanned aircraft\, wind\, agricultural\, timber & outdoor recreation industries.Discover what makes this bi-state region a magnet\nfor business development and for tourism.  \nThis event brought to you by the One Gorge advocacy group.\nRSVP requested but not required.
URL:https://onegorge.org/event/gorgeous-night-in-olympia/
LOCATION:Capitol Rotunda\, 416 Sid Snyder Ave.\, Olympia\, WA\, 98504 \, United States
CATEGORIES:One Gorge
GEO:47.0357219;-122.9048304
X-APPLE-STRUCTURED-LOCATION;VALUE=URI;X-ADDRESS=Capitol Rotunda 416 Sid Snyder Ave. Olympia WA 98504  United States;X-APPLE-RADIUS=500;X-TITLE=416 Sid Snyder Ave.:geo:-122.9048304,47.0357219
END:VEVENT
BEGIN:VEVENT
DTSTART;TZID=UTC:20150407T173000
DTEND;TZID=UTC:20150407T210000
DTSTAMP:20260423T184836
CREATED:20150311T205408Z
LAST-MODIFIED:20150311T205408Z
UID:10000317-1428427800-1428440400@onegorge.org
SUMMARY:A Gorge(ous) Night Out (In Salem)
DESCRIPTION:On Behalf of Representative Mark Johnson\, Representative John Huffman and Senator Chuck Thomsen: \nJoin us for our 2nd annual reception highlighting the beautiful Columbia River Gorge region. As a national scenic area\, the Gorge region has become host to diverse economies and communities that make it a wonderful place to live. Come enjoy a brief presentation from local elected officials\, sample food and beverages from the area\, and learn about the great businesses established in the region. \nTuesday\, April 7\, 2015 Beginning at 5:30 Mission Mill- The Dye House 1313 Mill Street SE Salem\, OR 97301 \nLocal Beverages and Hors d’oeuvres to be provided \nRSVP requested but not required: Brenna McGown at: McGownB@leg.state.or.us Or 503-986-1452
URL:https://onegorge.org/event/a-gorgeous-night-out-in-salem/
LOCATION:Mission Mill – The Dye House\, 1313 Mill Street SE\, Salem\, OR\, 97301\, United States
CATEGORIES:One Gorge,Oregon Legislative Session
GEO:44.9346555;-123.0262104
X-APPLE-STRUCTURED-LOCATION;VALUE=URI;X-ADDRESS=Mission Mill – The Dye House 1313 Mill Street SE Salem OR 97301 United States;X-APPLE-RADIUS=500;X-TITLE=1313 Mill Street SE:geo:-123.0262104,44.9346555
END:VEVENT
END:VCALENDAR