BEGIN:VCALENDAR
VERSION:2.0
PRODID:-//One Gorge - ECPv6.15.20//NONSGML v1.0//EN
CALSCALE:GREGORIAN
METHOD:PUBLISH
X-WR-CALNAME:One Gorge
X-ORIGINAL-URL:https://onegorge.org
X-WR-CALDESC:Events for One Gorge
REFRESH-INTERVAL;VALUE=DURATION:PT1H
X-Robots-Tag:noindex
X-PUBLISHED-TTL:PT1H
BEGIN:VTIMEZONE
TZID:UTC
BEGIN:STANDARD
TZOFFSETFROM:+0000
TZOFFSETTO:+0000
TZNAME:UTC
DTSTART:20140101T000000
END:STANDARD
END:VTIMEZONE
BEGIN:VEVENT
DTSTART;TZID=UTC:20150304T090000
DTEND;TZID=UTC:20150304T110000
DTSTAMP:20260420T191108
CREATED:20150304T202552Z
LAST-MODIFIED:20150304T203337Z
UID:10000312-1425459600-1425466800@onegorge.org
SUMMARY:Wasco County Board of Commissioners Meeting
DESCRIPTION:Sessions are generally held beginning at 9:00 a.m. the first and third Wednesdays of each month in Room 302 of the Wasco County Court House.
URL:https://onegorge.org/event/wasco-county-board-of-commissioners-meeting/2015-03-04/
LOCATION:Wasco County Court House\, 511 Washington Street\, Room 302\, The Dalles\, OR\, United States
CATEGORIES:Local Agency Meetings
GEO:45.5998449;-121.1839788
X-APPLE-STRUCTURED-LOCATION;VALUE=URI;X-ADDRESS=Wasco County Court House 511 Washington Street Room 302 The Dalles OR United States;X-APPLE-RADIUS=500;X-TITLE=511 Washington Street\, Room 302:geo:-121.1839788,45.5998449
END:VEVENT
BEGIN:VEVENT
DTSTART;TZID=UTC:20150303T130000
DTEND;TZID=UTC:20150303T150000
DTSTAMP:20260420T191108
CREATED:20150304T204753Z
LAST-MODIFIED:20150304T210150Z
UID:10000315-1425387600-1425394800@onegorge.org
SUMMARY:Klickitat County Board of Commissioners Meeting
DESCRIPTION:Meets every Tuesday\, public comment period from 1:00PM – 1:30PM\, then start of regular business at 1:30PM.
URL:https://onegorge.org/event/klickitat-county-board-of-commissioners-meeting/2015-03-03/
LOCATION:Klickitat County Courthouse\, 205 S Columbus Avenue\, Goldendale\, WA\, United States
CATEGORIES:Local Agency Meetings
GEO:45.8210696;-120.8237617
X-APPLE-STRUCTURED-LOCATION;VALUE=URI;X-ADDRESS=Klickitat County Courthouse 205 S Columbus Avenue Goldendale WA United States;X-APPLE-RADIUS=500;X-TITLE=205 S Columbus Avenue:geo:-120.8237617,45.8210696
END:VEVENT
BEGIN:VEVENT
DTSTART;TZID=UTC:20150303T093000
DTEND;TZID=UTC:20150303T110000
DTSTAMP:20260420T191108
CREATED:20150304T203905Z
LAST-MODIFIED:20150304T210014Z
UID:10000314-1425375000-1425380400@onegorge.org
SUMMARY:Skamania County Board of Commissioners Meeting
DESCRIPTION:The Board holds its business meeting every Tuesday beginning at 9:30am in the Board Room on the main floor of the Courthouse. On weeks where Monday is a holiday the business meeting occurs on Wednesday. Workshops\, special meetings and public hearings are scheduled as necessary and listed on the weekly agenda.
URL:https://onegorge.org/event/skamania-county-board-of-commissioners-meeting/2015-03-03/
LOCATION:Skamania County Board Room (Main floor of the Courthouse)\, 240 NW Vancouver\, Stevenson\, WA\, United States
CATEGORIES:Local Agency Meetings
GEO:45.6951498;-121.882823
X-APPLE-STRUCTURED-LOCATION;VALUE=URI;X-ADDRESS=Skamania County Board Room (Main floor of the Courthouse) 240 NW Vancouver Stevenson WA United States;X-APPLE-RADIUS=500;X-TITLE=240 NW Vancouver:geo:-121.882823,45.6951498
END:VEVENT
END:VCALENDAR